{"text_format":"1","workbook":"xlsx","n_sheets":4,"sheets":["Metro BLS Data Capture","U.S. BLS Data Capture","Trend Analysis","ESRI_MAPINFO_SHEET"],"not_rendered":{"charts":2,"images":0,"macros":1,"external_links":1,"defined_names":2,"comments":0,"pivot_tables":0},"unopened":[],"bounds":{"document_bytes":16777216,"sheet_cells":100000,"rows_first":2000,"rows_last":500,"rows_between":2000,"halvings":0,"cell_chars":16384,"cell_head_chars":4096},"cells_cut":0,"cells_raw":0,"read":"whole","date_system":"1900"}

{"sheet":"Metro BLS Data Capture","index":0,"n_rows":24,"n_cols":29,"rows_kept":24,"cut":false,"hidden":false,"merged":[[10,1,10,5],[5,1,5,5],[6,1,6,5],[7,1,7,5],[8,1,8,5],[9,1,9,5],[0,0,0,5],[1,0,1,5],[2,0,2,5],[3,1,3,5],[4,0,4,5]]}
["State and Area Employment, Hours, and Earnings"]
["Original Data Value"]
[]
["Series Id:","SMU48191240000000001"]
["Not Seasonally Adjusted"]
["State:","Texas"]
["Area:","Dallas-Plano-Irving, TX Metropolitan Division"]
["Supersector:","Total Nonfarm"]
["Industry:","Total Nonfarm"]
["Data Type:","All Employees, In Thousands"]
["Years:","2015 to 2025"]
[]
["Year","Jan","Feb","Mar","Apr","May","Jun","Jul","Aug","Sep","Oct","Nov","Dec",null,null,null,null,null,null,null,null,null,null,null,null,null,null,"Annual"]
[2015,2339.9,2358.8000000000002,2363.1999999999998,2384.4,2397.4,2413,2409.3000000000002,2417.4,2420.9,2443.9,2455.3000000000002,2462.4,null,null,null,null,null,null,null,null,null,null,null,null,null,null,{"$f":"AVERAGE(B14:N14)","v":2405.4916666666672},{"$f":"AVERAGE(B14:N14)","v":2405.4916666666672}]
[2016,2434.1,2453,2456.9,2477.9,2488.6,2495,2490.3000000000002,2501.1999999999998,2512,2529.6,2546.6,2552.4,null,null,null,null,null,null,null,null,null,null,null,null,null,null,2494.7999999999997,{"$f":"AVERAGE(B15:N15)","v":2494.7999999999997}]
[2017,2512.4,2529.3000000000002,2535.6,2547.5,2557.8000000000002,2569,2550.1999999999998,2560,2567.1,2590.5,2611.1999999999998,2610.1,null,null,null,null,null,null,null,null,null,null,null,null,null,null,2561.7249999999999,2561.7249999999999]
[2018,2564.8000000000002,2582.6999999999998,2589.1999999999998,2595.8000000000002,2611.6999999999998,2626.1,2614.4,2625.7,2626.7,2649.9,2671.9,2674,null,null,null,null,null,null,null,null,null,null,null,null,null,null,2619.4083333333338,2619.4083333333338]
[2019,2627.9,2644.7,2649.9,2666.3,2681.5,2693.4,2689.5,2701.5,2702,2732.5,2755.9,2755,null,null,null,null,null,null,null,null,null,null,null,null,null,null,2691.6749999999997,2691.6749999999997]
[2020,2714,2728.5,2711.9,2431.1999999999998,2490.5,2542.6,2548.6999999999998,2581.1999999999998,2597.8000000000002,2645.1,2667.7,2679,null,null,null,null,null,null,null,null,null,null,null,null,null,null,2611.5166666666664,2611.5166666666664]
[2021,2645.5,2649.1,2674.7,2695.3,2711.5,2726.5,2746.5,2759.8,2768,2829.7,2854.9,2867.8,null,null,null,null,null,null,null,null,null,null,null,null,null,null,2744.1083333333336,2744.1083333333336]
[2022,2825.8,2857.3,2866.4,2901,2914.9,2918.9,2940.6,2963.8,2968,3003.9,3020.9,3013.5,null,null,null,null,null,null,null,null,null,null,null,null,null,null,2932.9166666666665,2932.9166666666665]
[2023,2984.7,2996.2,3002.3,3018.1,3027.9,3031.1,3020.6,3036.3,3032.3,3054.4,3072.5,3067.9,null,null,null,null,null,null,null,null,null,null,null,null,null,null,3028.6916666666662,3028.6916666666662]
[2024,3027.6,3038.1,3036.8,3055,3067.3,3059.8,3056.9,3073.4,3066.9,3096.9,3104.8,3110,null,null,null,null,null,null,null,null,null,null,null,null,null,null,3066.1250000000005,3066.1250000000005]
[2025,3060.8,3072.9,3076.5,null,null,null,null,null,null,null,null,null,null,null,null,null,null,null,null,null,null,null,null,null,null,null,3070.0666666666671,3070.0666666666671]

{"sheet":"U.S. BLS Data Capture","index":1,"n_rows":24,"n_cols":29,"rows_kept":24,"cut":false,"hidden":false,"merged":[[10,1,10,5],[5,1,5,5],[6,1,6,5],[7,1,7,5],[8,1,8,5],[9,1,9,5],[0,0,0,5],[1,0,1,5],[2,0,2,5],[3,1,3,5],[4,0,4,5]]}
["Employment, Hours, and Earnings from the Current Employment Statistics survey (National)"]
["Original Data Value"]
[]
["Series Id:","CES0000000001"]
["Seasonally Adjusted"]
["Series Title:","All employees, thousands, total nonfarm, seasonally adjusted"]
["Super Sector:","Total nonfarm"]
["Industry:","Total nonfarm"]
["NAICS Code:","-"]
["Data Type:","ALL EMPLOYEES, THOUSANDS"]
["Years:","2015 to 2025"]
[]
["Year","Jan","Feb","Mar","Apr","May","Jun","Jul","Aug","Sep","Oct","Nov","Dec",null,null,null,null,null,null,null,null,null,null,null,null,null,null,"Annual"]
[2015,140568,140827,140923,141196,141538,141709,141991,142125,142275,142579,142808,143077,null,null,null,null,null,null,null,null,null,null,null,null,null,null,{"$f":"AVERAGE(B14:N14)","v":141801.33333333334},{"$f":"AVERAGE(B14:N14)","v":141801.33333333334}]
[2016,143210,143407,143662,143855,143900,144146,144520,144662,144967,145066,145183,145408,null,null,null,null,null,null,null,null,null,null,null,null,null,null,144332.16666666666,144332.16666666666]
[2017,145628,145848,145969,146174,146380,146583,146772,146919,147007,147150,147373,147523,null,null,null,null,null,null,null,null,null,null,null,null,null,null,146610.5,146610.5]
[2018,147660,148054,148280,148422,148740,148959,149020,149279,149358,149526,149617,149809,null,null,null,null,null,null,null,null,null,null,null,null,null,null,148893.66666666666,148893.66666666666]
[2019,150059,150065,150295,150593,150621,150839,150936,151171,151365,151460,151668,151795,null,null,null,null,null,null,null,null,null,null,null,null,null,null,150905.58333333334,150905.58333333334]
[2020,152031,152292,150895,130424,133040,137671,139255,140819,141770,142461,142731,142548,null,null,null,null,null,null,null,null,null,null,null,null,null,null,142161.41666666666,142161.41666666666]
[2021,142913,143422,144246,144611,145032,145828,146759,147246,147712,148569,149206,149781,null,null,null,null,null,null,null,null,null,null,null,null,null,null,146277.08333333334,146277.08333333334]
[2022,150006,150875,151346,151651,151892,152353,153049,153286,153513,153913,154210,154336,null,null,null,null,null,null,null,null,null,null,null,null,null,null,152535.83333333334,152535.83333333334]
[2023,154780,155086,155171,155387,155614,155871,156019,156176,156334,156520,156661,156930,null,null,null,null,null,null,null,null,null,null,null,null,null,null,155879.08333333334,155879.08333333334]
[2024,157049,157271,157517,157635,157828,157915,158003,158074,158314,158358,158619,158942,null,null,null,null,null,null,null,null,null,null,null,null,null,null,157960.41666666666,157960.41666666666]
[2025,159053,159155,159340,159517,null,null,null,null,null,null,null,null,null,null,null,null,null,null,null,null,null,null,null,null,null,null,159266.25,159266.25]

{"sheet":"Trend Analysis","index":2,"n_rows":41,"n_cols":6,"rows_kept":41,"cut":false,"hidden":false,"merged":[]}
[]
[null,"Employment Trend Analysis"]
[]
[null,{"$f":"'Metro BLS Data Capture'!B7","v":"Dallas-Plano-Irving, TX Metropolitan Division"}]
[]
[null,"10-Year Annual Employment Change (x 1,000)"]
[]
[null,"Year","U.S. Emp.","Metro Emp.","U.S. % Chg.","Metro % Chg."]
[null,{"$f":"'U.S. BLS Data Capture'!A14","v":2015},{"$f":"'U.S. BLS Data Capture'!AC14","v":141801.33333333334},{"$f":"'Metro BLS Data Capture'!AC14","v":2405.4916666666672}]
[null,{"$f":"'U.S. BLS Data Capture'!A15","v":2016},{"$f":"'U.S. BLS Data Capture'!AC15","v":144332.16666666666},{"$f":"'Metro BLS Data Capture'!AC15","v":2494.7999999999997},{"$f":"(C10-C9)/C9","v":1.7847740030653075E-2},{"$f":"(D10-D9)/D9","v":3.7126852098842908E-2}]
[null,{"$f":"'U.S. BLS Data Capture'!A16","v":2017},{"$f":"'U.S. BLS Data Capture'!AC16","v":146610.5},{"$f":"'Metro BLS Data Capture'!AC16","v":2561.7249999999999},1.5785346994721734E-2,2.6825797659131068E-2]
[null,{"$f":"'U.S. BLS Data Capture'!A17","v":2018},{"$f":"'U.S. BLS Data Capture'!AC17","v":148893.66666666666},{"$f":"'Metro BLS Data Capture'!AC17","v":2619.4083333333338},1.557300920920846E-2,2.2517379239900399E-2]
[null,{"$f":"'U.S. BLS Data Capture'!A18","v":2019},{"$f":"'U.S. BLS Data Capture'!AC18","v":150905.58333333334},{"$f":"'Metro BLS Data Capture'!AC18","v":2691.6749999999997},1.351243952619444E-2,2.7588927524981516E-2]
[null,{"$f":"'U.S. BLS Data Capture'!A19","v":2020},{"$f":"'U.S. BLS Data Capture'!AC19","v":142161.41666666666},{"$f":"'Metro BLS Data Capture'!AC19","v":2611.5166666666664},-5.7944619897540919E-2,-2.9780093560081849E-2]
[null,{"$f":"'U.S. BLS Data Capture'!A20","v":2021},{"$f":"'U.S. BLS Data Capture'!AC20","v":146277.08333333334},{"$f":"'Metro BLS Data Capture'!AC20","v":2744.1083333333336},2.895065878751691E-2,5.0771901385529672E-2]
[null,{"$f":"'U.S. BLS Data Capture'!A21","v":2022},{"$f":"'U.S. BLS Data Capture'!AC21","v":152535.83333333334},{"$f":"'Metro BLS Data Capture'!AC21","v":2932.9166666666665},4.2786948285929952E-2,6.8804985225923265E-2]
[null,{"$f":"'U.S. BLS Data Capture'!A22","v":2023},{"$f":"'U.S. BLS Data Capture'!AC22","v":155879.08333333334},{"$f":"'Metro BLS Data Capture'!AC22","v":3028.6916666666662},2.1917800735346337E-2,3.2655206705497819E-2]
[null,{"$f":"'U.S. BLS Data Capture'!A23","v":2024},{"$f":"'U.S. BLS Data Capture'!AC23","v":157960.41666666666},{"$f":"'Metro BLS Data Capture'!AC23","v":3066.1250000000005},1.3352229746453991E-2,1.2359572202519011E-2]
[null,{"$f":"'U.S. BLS Data Capture'!A24","v":2025},{"$f":"'U.S. BLS Data Capture'!AC24","v":159266.25},{"$f":"'Metro BLS Data Capture'!AC24","v":3070.0666666666671},8.2668390023872638E-3,1.2855531547691648E-3]
[]
[null,null,null,"10-Year Growth Rate ",{"$f":"RATE(10,0,-C9,C19)","v":1.1682747707632894E-2},{"$f":"RATE(10,0,-D9,D19)","v":2.4694475938875214E-2}]
[null,null,null,"Standard Deviation ",{"$f":"STDEV(E10:E19)","v":2.6468256055831505E-2},{"$f":"STDEV(F10:F19)","v":2.6931892433078693E-2}]
[]
[]
[]
[null,"Year-to-Date Monthly Employment Change (x 1,000)"]
[]
[null,"Current Year","U.S. Emp.","Metro Emp.","U.S. % Chg.","Metro % Chg."]
[null,"Dec",{"$f":"IF('U.S. BLS Data Capture'!$M$23>0,'U.S. BLS Data Capture'!$M$23,0)","v":158942},{"$f":"IF('Metro BLS Data Capture'!M23>0,'Metro BLS Data Capture'!M23,0)","v":3110}]
[null,"Jan",{"$f":"IF('U.S. BLS Data Capture'!$B$24>0,'U.S. BLS Data Capture'!$B$24,0)","v":159053},{"$f":"IF('Metro BLS Data Capture'!B24>0,'Metro BLS Data Capture'!B24,0)","v":3060.8},{"$f":"IF(C30>0,(C30-C29)/C29,\" \")","v":6.9836795812308887E-4},{"$f":"IF(D30>0,(D30-D29)/D29,\" \")","v":-1.581993569131827E-2}]
[null,"Feb",{"$f":"IF('U.S. BLS Data Capture'!$C$24>0,'U.S. BLS Data Capture'!$C$24,0)","v":159155},{"$f":"IF('Metro BLS Data Capture'!C24>0,'Metro BLS Data Capture'!C24,0)","v":3072.9},6.4129566873935106E-4,3.95321484579192E-3]
[null,"Mar",{"$f":"IF('U.S. BLS Data Capture'!$D$24>0,'U.S. BLS Data Capture'!$D$24,0)","v":159340},{"$f":"IF('Metro BLS Data Capture'!D24>0,'Metro BLS Data Capture'!D24,0)","v":3076.5},1.1623888661996167E-3,1.1715317777994431E-3]
[null,"Apr",{"$f":"IF('U.S. BLS Data Capture'!$E$24>0,'U.S. BLS Data Capture'!$E$24,0)","v":159517},{"$f":"IF('Metro BLS Data Capture'!E24>0,'Metro BLS Data Capture'!E24,0)","v":0},1.1108321827538598E-3," "]
[null,"May",{"$f":"IF('U.S. BLS Data Capture'!$F$24>0,'U.S. BLS Data Capture'!$F$24,0)","v":0},{"$f":"IF('Metro BLS Data Capture'!F24>0,'Metro BLS Data Capture'!F24,0)","v":0}," "," "]
[null,"June",{"$f":"IF('Metro BLS Data Capture'!G24>0,'U.S. BLS Data Capture'!$G$24,0)","v":0},{"$f":"IF('Metro BLS Data Capture'!G24>0,'Metro BLS Data Capture'!G24,0)","v":0}," "," "]
[null,"July",{"$f":"IF('U.S. BLS Data Capture'!$H$24>0,'U.S. BLS Data Capture'!$H$24,0)","v":0},{"$f":"IF('Metro BLS Data Capture'!H24>0,'Metro BLS Data Capture'!H24,0)","v":0}," "," "]
[null,"Aug",{"$f":"IF('U.S. BLS Data Capture'!$I$24>0,'U.S. BLS Data Capture'!$I$24,0)","v":0},{"$f":"IF('Metro BLS Data Capture'!I24>0,'Metro BLS Data Capture'!I24,0)","v":0}," "," "]
[null,"Sep",{"$f":"IF('U.S. BLS Data Capture'!$J$24>0,'U.S. BLS Data Capture'!$J$24,0)","v":0},{"$f":"IF('Metro BLS Data Capture'!J24>0,'Metro BLS Data Capture'!J24,0)","v":0}," "," "]
[null,"Oct",{"$f":"IF('U.S. BLS Data Capture'!$K$24>0,'U.S. BLS Data Capture'!$K$24,0)","v":0},{"$f":"IF('Metro BLS Data Capture'!K24>0,'Metro BLS Data Capture'!K24,0)","v":0}," "," "]
[null,"Nov",{"$f":"IF('U.S. BLS Data Capture'!$L$24>0,'U.S. BLS Data Capture'!$L$24,0)","v":0},{"$f":"IF('Metro BLS Data Capture'!L24>0,'Metro BLS Data Capture'!L24,0)","v":0}," "," "]
[null,"Dec",{"$f":"IF('U.S. BLS Data Capture'!$M$24>0,'U.S. BLS Data Capture'!$M$24,0)","v":0},{"$f":"IF('Metro BLS Data Capture'!M24>0,'Metro BLS Data Capture'!M24,0)","v":0}," "," "]

{"sheet":"ESRI_MAPINFO_SHEET","index":3,"n_rows":0,"n_cols":0,"rows_kept":0,"cut":false,"hidden":true,"merged":[]}